BEGIN:VCALENDAR
VERSION:2.0
PRODID:Spatie calendar-links
BEGIN:VEVENT
UID:52c85195dc99f7353558787b278daf71
SUMMARY:The Big One - Freedom Rally
DTSTAMP;TZID=America/Regina:20210320T140000
DTSTART;TZID=America/Regina:20210320T140000
DTEND;TZID=America/Regina:20210320T160000
LOCATION:Saskatoon\, SK\, Canada
END:VEVENT
END:VCALENDAR