BEGIN:VCALENDAR
VERSION:2.0
PRODID:Spatie calendar-links
BEGIN:VEVENT
UID:cd5492e0f3cf8a2740e214d24258b132
SUMMARY:The War on Medicine: Cells Don't Lie -Bright Light News Live Panel 2 feat. Drs Pierre Kory\, Ryan Cole and Kat Lindley (Toronto\, April 6)
DTSTAMP;TZID=America/Toronto:20230406T183000
DTSTART;TZID=America/Toronto:20230406T183000
DTEND;TZID=America/Toronto:20230406T220000
LOCATION:400 Eglinton Avenue W.\, Toronto\, ON\, Canada
END:VEVENT
END:VCALENDAR