BEGIN:VCALENDAR
VERSION:2.0
PRODID:Spatie calendar-links
BEGIN:VEVENT
UID:005c265aaab9b35b3128e278aa7c1cb8
SUMMARY:See You at Lumby Days Indoor Craft Fair in Lumby BC!
DTSTAMP;TZID=America/Vancouver:20240615T100000
DTSTART;TZID=America/Vancouver:20240615T100000
DTEND;TZID=America/Vancouver:20240616T160000
LOCATION:228 Valley Rd\, Kelowna\, BC\, Canada
END:VEVENT
END:VCALENDAR