BEGIN:VCALENDAR
VERSION:2.0
PRODID:Spatie calendar-links
BEGIN:VEVENT
UID:1f61275ba9bb132c0040e045745ea15e
SUMMARY:Cypress-Medicine Hat UCP Nomination 
DTSTAMP;TZID=America/Edmonton:20230316T120000
DTSTART;TZID=America/Edmonton:20230316T120000
DTEND;TZID=America/Edmonton:20230316T200000
LOCATION:1051 Ross Glen Drive SE\, Medicine Hat\, AB\, Canada
END:VEVENT
END:VCALENDAR