BEGIN:VCALENDAR
VERSION:2.0
PRODID:Spatie calendar-links
BEGIN:VEVENT
UID:1287c2eeff6f35f0f19ec9ebd8da25f8
SUMMARY:Leduc-Beaumont UCP Nomination
DTSTAMP;TZID=America/Edmonton:20230318T100000
DTSTART;TZID=America/Edmonton:20230318T100000
DTEND;TZID=America/Edmonton:20230318T160000
LOCATION:1102 4 Street\, Nisku\, AB\, Canada
END:VEVENT
END:VCALENDAR