BEGIN:VCALENDAR
VERSION:2.0
PRODID:Spatie calendar-links
BEGIN:VEVENT
UID:2a2b4617267c27d1d0e6a4cb2cd072f1
SUMMARY:Alberta Prosperity Project Dinner
DTSTAMP;TZID=America/Edmonton:20230317T173000
DTSTART;TZID=America/Edmonton:20230317T173000
DTEND;TZID=America/Edmonton:20230317T214000
LOCATION:5011 2 Street South\, New Sarepta\, Alberta\, Canada
END:VEVENT
END:VCALENDAR