BEGIN:VCALENDAR
VERSION:2.0
PRODID:Spatie calendar-links
BEGIN:VEVENT
UID:72fb1efc90449b966a0793ac33ad42f7
SUMMARY:The Media Is The Virus
DTSTAMP;TZID=America/Los_Angeles:20230415T120000
DTSTART;TZID=America/Los_Angeles:20230415T120000
DTEND;TZID=America/Los_Angeles:20230415T160000
LOCATION:180 W 2nd Avenue\, Vancouver\, BC\, Canada
END:VEVENT
END:VCALENDAR