BEGIN:VCALENDAR
VERSION:2.0
PRODID:Spatie calendar-links
BEGIN:VEVENT
UID:cf13d1c80c065ca808dc132f5d7247b9
SUMMARY:Take Back Alberta
DTSTAMP;TZID=America/Edmonton:20230321T180000
DTSTART;TZID=America/Edmonton:20230321T180000
DTEND;TZID=America/Edmonton:20230321T213000
LOCATION:714003 Range Road 53\, Grande Prairie \, AB\, Canada
END:VEVENT
END:VCALENDAR