BEGIN:VCALENDAR
VERSION:2.0
PRODID:Spatie calendar-links
BEGIN:VEVENT
UID:dd316ce0b80a034e0df69f3c1854b5a1
SUMMARY:Take Back Alberta - Linden
DTSTAMP;TZID=America/Edmonton:20230328T180000
DTSTART;TZID=America/Edmonton:20230328T180000
DTEND;TZID=America/Edmonton:20230328T213000
LOCATION:106 1 Street SE\, Linden\, AB\, Canada
END:VEVENT
END:VCALENDAR