BEGIN:VCALENDAR
VERSION:2.0
PRODID:Spatie calendar-links
BEGIN:VEVENT
UID:bedf7e6cce97837d6bfe0ce95f80a9cf
SUMMARY:Take Back Alberta - St. Albert
DTSTAMP;TZID=America/Edmonton:20230329T183000
DTSTART;TZID=America/Edmonton:20230329T183000
DTEND;TZID=America/Edmonton:20230329T213000
LOCATION:215 Sturgeon Road\, St. Albert\, AB\, Canada
END:VEVENT
END:VCALENDAR