BEGIN:VCALENDAR
VERSION:2.0
PRODID:Spatie calendar-links
BEGIN:VEVENT
UID:6650e39a0b93aab4ec250e75f2694a0c
SUMMARY:Take Back Alberta - Barrhead
DTSTAMP;TZID=America/Edmonton:20230331T180000
DTSTART;TZID=America/Edmonton:20230331T180000
DTEND;TZID=America/Edmonton:20230331T220000
LOCATION:5437 49 Street\, barrhead\, AB\, Canada
END:VEVENT
END:VCALENDAR