BEGIN:VCALENDAR
VERSION:2.0
PRODID:Spatie calendar-links
BEGIN:VEVENT
UID:3e7ce6e87c5c3d323bfd5b3b02375805
SUMMARY:Invermere\, BC - WORLDWIDE RALLY MARCH 20TH\, 2021
DTSTAMP;TZID=America/Toronto:20210320T120000
DTSTART;TZID=America/Toronto:20210320T120000
DTEND;TZID=America/Toronto:20210320T150000
LOCATION:639 7th Avenue\, Athalmer\, BC\, Canada
END:VEVENT
END:VCALENDAR