BEGIN:VCALENDAR
VERSION:2.0
PRODID:Spatie calendar-links
BEGIN:VEVENT
UID:b6d4194279322568732b2e621cdfec7d
SUMMARY:Take Back Alberta - Westlock
DTSTAMP;TZID=America/Edmonton:20230401T130000
DTSTART;TZID=America/Edmonton:20230401T130000
DTEND;TZID=America/Edmonton:20230401T160000
LOCATION:10711 104 Avenue\, Westlock\, AB\, Canada
END:VEVENT
END:VCALENDAR