BEGIN:VCALENDAR
VERSION:2.0
PRODID:Spatie calendar-links
BEGIN:VEVENT
UID:7acc5c389ffbf33bbcb9c27f84a75722
SUMMARY:Citizen Action Group
DTSTAMP;TZID=America/Edmonton:20230326T180000
DTSTART;TZID=America/Edmonton:20230326T180000
DTEND;TZID=America/Edmonton:20230326T214500
LOCATION:6402 1A Street SW\, Calgary\, AB\, Canada
END:VEVENT
END:VCALENDAR