BEGIN:VCALENDAR
VERSION:2.0
PRODID:Spatie calendar-links
BEGIN:VEVENT
UID:dd83275e789a66c1e9b8c43c14d66460
SUMMARY:UCP Nomination  Calgary-North East
DTSTAMP;TZID=America/Edmonton:20230401T120000
DTSTART;TZID=America/Edmonton:20230401T120000
DTEND;TZID=America/Edmonton:20230401T180000
LOCATION:5 Redstone Heights NE\, Calgary\, AB\, Canada
END:VEVENT
END:VCALENDAR