BEGIN:VCALENDAR
VERSION:2.0
PRODID:Spatie calendar-links
BEGIN:VEVENT
UID:977cd3a0b2cd8af86ed6c54176d550d5
SUMMARY:practice
DTSTAMP;TZID=Europe/Andorra:20230404T000000
DTSTART;TZID=Europe/Andorra:20230404T000000
DTEND;TZID=Europe/Andorra:20230405T000000
END:VEVENT
END:VCALENDAR