BEGIN:VCALENDAR
VERSION:2.0
PRODID:Spatie calendar-links
BEGIN:VEVENT
UID:b874cbd16e25283db6ca4963821945c3
SUMMARY:Class Action Certification Hearing @ BC Supreme Court
DTSTAMP;TZID=America/Los_Angeles:20230424T100000
DTSTART;TZID=America/Los_Angeles:20230424T100000
DTEND;TZID=America/Los_Angeles:20230428T160000
LOCATION:800 Smithe Street\, Vancouver\, BC\, Canada
END:VEVENT
END:VCALENDAR