BEGIN:VCALENDAR
VERSION:2.0
PRODID:Spatie calendar-links
BEGIN:VEVENT
UID:aca541c08bafd0250b2a054e694a985b
SUMMARY:Citizens Inquiry
DTSTAMP;TZID=America/Los_Angeles:20230419T130000
DTSTART;TZID=America/Los_Angeles:20230419T130000
DTEND;TZID=America/Los_Angeles:20230419T160000
LOCATION:453 W 12th Avenue\, Vancouver\, BC\, Canada
END:VEVENT
END:VCALENDAR