BEGIN:VCALENDAR
VERSION:2.0
PRODID:Spatie calendar-links
BEGIN:VEVENT
UID:09a87ecc1abc6d8f717248afb30e1d25
SUMMARY:Canadian Pro-Life Youth Summit
DTSTAMP;TZID=America/New_York:20230512T080000
DTSTART;TZID=America/New_York:20230512T080000
DTEND;TZID=America/New_York:20230512T150000
LOCATION:200 Coventry Road\, Ottawa\, ON\, Canada
END:VEVENT
END:VCALENDAR