BEGIN:VCALENDAR
VERSION:2.0
PRODID:Spatie calendar-links
BEGIN:VEVENT
UID:f5fe5ea7fe619cb2fc2679cd5429849f
SUMMARY:Take Back Alberta - Picture Butte
DTSTAMP;TZID=America/Edmonton:20230503T180000
DTSTART;TZID=America/Edmonton:20230503T180000
DTEND;TZID=America/Edmonton:20230503T204500
LOCATION:105078 Range Road 21-1\, Picture Butte\, AB\, Canada
END:VEVENT
END:VCALENDAR