BEGIN:VCALENDAR
VERSION:2.0
PRODID:Spatie calendar-links
BEGIN:VEVENT
UID:52cbe9efcc511f47a546eaced2cb5e9a
SUMMARY:BURN 24-7
DTSTAMP;TZID=America/Edmonton:20230520T140000
DTSTART;TZID=America/Edmonton:20230520T140000
DTEND;TZID=America/Edmonton:20230520T220000
LOCATION:1929  West Georgia Street \, Vancouver\, BC\, Canada
END:VEVENT
END:VCALENDAR