BEGIN:VCALENDAR
VERSION:2.0
PRODID:Spatie calendar-links
BEGIN:VEVENT
UID:e38cf4a99789fbe93b46970520992bf0
SUMMARY:World Wide Rally For Freedom 12 - Vancouver
DTSTAMP;TZID=America/Los_Angeles:20230520T120000
DTSTART;TZID=America/Los_Angeles:20230520T120000
DTEND;TZID=America/Los_Angeles:20230520T160000
LOCATION:750 Hornby St\, Vancouver\, BC\, Canada
END:VEVENT
END:VCALENDAR