BEGIN:VCALENDAR
VERSION:2.0
PRODID:Spatie calendar-links
BEGIN:VEVENT
UID:1a47d1942e805f6c316d7506b5c43293
SUMMARY:The Hidden Healthcare Crisis Film Premiere
DTSTAMP;TZID=America/Los_Angeles:20230513T180000
DTSTART;TZID=America/Los_Angeles:20230513T180000
DTEND;TZID=America/Los_Angeles:20230513T220000
LOCATION:919 Tollcross Road\, North Vancouver\, BC\, Canada
END:VEVENT
END:VCALENDAR