BEGIN:VCALENDAR
VERSION:2.0
PRODID:Spatie calendar-links
BEGIN:VEVENT
UID:221f93f2ad736744b8d42923aab1e0cd
SUMMARY:SA 2022 presents David Parker and Dr. Lana Nicholl
DTSTAMP;TZID=America/Edmonton:20230501T181500
DTSTART;TZID=America/Edmonton:20230501T181500
DTEND;TZID=America/Edmonton:20230501T220000
LOCATION:9257 34A Avenue NW\, Edmonton\, AB\, Canada
END:VEVENT
END:VCALENDAR