BEGIN:VCALENDAR
VERSION:2.0
PRODID:Spatie calendar-links
BEGIN:VEVENT
UID:654ebac43cb848553a4f4764492bdf4f
SUMMARY:Bill 36 Free Town Hall
DTSTAMP;TZID=America/Vancouver:20230509T190000
DTSTART;TZID=America/Vancouver:20230509T190000
DTEND;TZID=America/Vancouver:20230509T210000
LOCATION:2736 Fernwood Road\, Victoria\, BC\, Canada
END:VEVENT
END:VCALENDAR