BEGIN:VCALENDAR
VERSION:2.0
PRODID:Spatie calendar-links
BEGIN:VEVENT
UID:19f0a8ca936c07233edf0cecb3d18756
SUMMARY:Jordan Peterson in Red Deer
DTSTAMP;TZID=America/Edmonton:20230522T190000
DTSTART;TZID=America/Edmonton:20230522T190000
DTEND;TZID=America/Edmonton:20230522T210000
LOCATION:Red Deer\, Alberta\, Canada
END:VEVENT
END:VCALENDAR