BEGIN:VCALENDAR
VERSION:2.0
PRODID:Spatie calendar-links
BEGIN:VEVENT
UID:4fc724a5eba3b68fb27e43dc51765581
SUMMARY:Canada Day Bazaar
DTSTAMP;TZID=America/Vancouver:20230701T110000
DTSTART;TZID=America/Vancouver:20230701T110000
DTEND;TZID=America/Vancouver:20230701T210000
LOCATION:Kelowna\, BC\, Canada
END:VEVENT
END:VCALENDAR