BEGIN:VCALENDAR
VERSION:2.0
PRODID:Spatie calendar-links
BEGIN:VEVENT
UID:e3b77013985f4086be39ec401ca4a171
SUMMARY:SOVEREIGN BAANK Information Session
DTSTAMP;TZID=America/Los_Angeles:20230515T190000
DTSTART;TZID=America/Los_Angeles:20230515T190000
DTEND;TZID=America/Los_Angeles:20230515T210000
LOCATION:22610 116th Avenue\, Maple Ridge\, BC\, Canada
END:VEVENT
END:VCALENDAR