BEGIN:VCALENDAR
VERSION:2.0
PRODID:Spatie calendar-links
BEGIN:VEVENT
UID:bf976239ab0537871d9d6ca21161a04d
SUMMARY:Healing for the People
DTSTAMP;TZID=America/Vancouver:20230604T110000
DTSTART;TZID=America/Vancouver:20230604T110000
DTEND;TZID=America/Vancouver:20230604T170000
LOCATION:4211 Main st.\, Vancouver\, BC\, Canada
END:VEVENT
END:VCALENDAR