BEGIN:VCALENDAR
VERSION:2.0
PRODID:Spatie calendar-links
BEGIN:VEVENT
UID:797da77795affac60ead2b62d2f5b811
SUMMARY:Artful Hand Sanctuary Fair
DTSTAMP;TZID=America/Vancouver:20230604T100000
DTSTART;TZID=America/Vancouver:20230604T100000
DTEND;TZID=America/Vancouver:20230604T170000
LOCATION:Kelowna\, BC\, Canada
END:VEVENT
END:VCALENDAR