BEGIN:VCALENDAR
VERSION:2.0
PRODID:Spatie calendar-links
BEGIN:VEVENT
UID:6653dd18929b617451580cffde1fb517
SUMMARY:Reclaiming Canada Conference
DTSTAMP;TZID=America/Los_Angeles:20230526T173000
DTSTART;TZID=America/Los_Angeles:20230526T173000
DTEND;TZID=America/Los_Angeles:20230528T180000
LOCATION:2736 Fernwood Road\, Victoria\, BC\, Canada
END:VEVENT
END:VCALENDAR