BEGIN:VCALENDAR
VERSION:2.0
PRODID:Spatie calendar-links
BEGIN:VEVENT
UID:40adca3abf9cedeb424c59dd87841286
SUMMARY:Creston\, BC - - WORLDWIDE RALLY MARCH 20TH\, 2021
DTSTAMP;TZID=America/Vancouver:20210320T120000
DTSTART;TZID=America/Vancouver:20210320T120000
DTEND;TZID=America/Vancouver:20210320T150000
LOCATION:Creston\, BC\, Canada
END:VEVENT
END:VCALENDAR