BEGIN:VCALENDAR
VERSION:2.0
PRODID:Spatie calendar-links
BEGIN:VEVENT
UID:5020da8158a4f9f8b2951db8647488f5
SUMMARY:Mo Jo Diner
DTSTAMP;TZID=America/Edmonton:20230603T180000
DTSTART;TZID=America/Edmonton:20230603T180000
DTEND;TZID=America/Edmonton:20230603T220000
LOCATION:53310 AB-43\, Parkland County\, AB\, Canada
END:VEVENT
END:VCALENDAR