BEGIN:VCALENDAR
VERSION:2.0
PRODID:Spatie calendar-links
BEGIN:VEVENT
UID:895f82129092294436831fe96f5bf4a1
SUMMARY:Trudeau 4 Treason
DTSTAMP;TZID=America/Los_Angeles:20230602T140000
DTSTART;TZID=America/Los_Angeles:20230602T140000
DTEND;TZID=America/Los_Angeles:20230602T160000
LOCATION:453 W 12th Avenue\, Vancouver\, BC\, Canada
END:VEVENT
END:VCALENDAR