BEGIN:VCALENDAR
VERSION:2.0
PRODID:Spatie calendar-links
BEGIN:VEVENT
UID:ba0c55a4f1301b874730122e0afdf1a0
SUMMARY:Stand4Thee.ca
DTSTAMP;TZID=America/Edmonton:20230602T180000
DTSTART;TZID=America/Edmonton:20230602T180000
DTEND;TZID=America/Edmonton:20230602T210000
LOCATION:Canada
END:VEVENT
END:VCALENDAR