BEGIN:VCALENDAR
VERSION:2.0
PRODID:Spatie calendar-links
BEGIN:VEVENT
UID:cb64d560d7af4266ebb5fa626bdae647
SUMMARY:Stand4Thee - Victoria
DTSTAMP;TZID=America/Vancouver:20230605T140000
DTSTART;TZID=America/Vancouver:20230605T140000
DTEND;TZID=America/Vancouver:20230605T160000
LOCATION:1 Centennial Square\, Victoria\, BC\, Canada
END:VEVENT
END:VCALENDAR