BEGIN:VCALENDAR
VERSION:2.0
PRODID:Spatie calendar-links
BEGIN:VEVENT
UID:6e732f63e2fd8a8ed27b1eaddc681c57
SUMMARY:Embodied Resiliency Virtual Summit: How to Thrive and Evolve in Chaotic and Unsettling Times
DTSTAMP;TZID=America/Los_Angeles:20230619T093000
DTSTART;TZID=America/Los_Angeles:20230619T093000
DTEND;TZID=America/Los_Angeles:20230626T120000
END:VEVENT
END:VCALENDAR