BEGIN:VCALENDAR
VERSION:2.0
PRODID:Spatie calendar-links
BEGIN:VEVENT
UID:ae80ea939128420c21a6c5b0fead4a0e
SUMMARY:Fundraiser for Freedom
DTSTAMP;TZID=America/Los_Angeles:20230623T180000
DTSTART;TZID=America/Los_Angeles:20230623T180000
DTEND;TZID=America/Los_Angeles:20230623T210000
LOCATION:1193 Granville St\, Vancouver\, BC\, Canada
END:VEVENT
END:VCALENDAR