BEGIN:VCALENDAR
VERSION:2.0
PRODID:Spatie calendar-links
BEGIN:VEVENT
UID:3e983d1729018c8bfd17d7bcf9c28fc2
SUMMARY:Revive Your Health
DTSTAMP;TZID=America/Edmonton:20230626T160000
DTSTART;TZID=America/Edmonton:20230626T160000
DTEND;TZID=America/Edmonton:20230629T190000
LOCATION:11520 Ellerslie Road SW\, Edmonton\, AB\, Canada
END:VEVENT
END:VCALENDAR