BEGIN:VCALENDAR
VERSION:2.0
PRODID:Spatie calendar-links
BEGIN:VEVENT
UID:bcb0e32baa39dfae4a538dfb61ecd21a
SUMMARY:Community Family Picnic at Mill Lake Park in Abbotsford
DTSTAMP;TZID=America/Los_Angeles:20230723T120000
DTSTART;TZID=America/Los_Angeles:20230723T120000
DTEND;TZID=America/Los_Angeles:20230723T160000
LOCATION:32960 Mill Lake Road\, Abbotsford\, BC\, Canada
END:VEVENT
END:VCALENDAR