BEGIN:VCALENDAR
VERSION:2.0
PRODID:Spatie calendar-links
BEGIN:VEVENT
UID:904bfb06abdd798882ea32a3f4c8be85
SUMMARY:SunPowerLED Photobiomodulation Webinar - July 11\, 2023
DTSTAMP;TZID=America/New_York:20230711T190000
DTSTART;TZID=America/New_York:20230711T190000
DTEND;TZID=America/New_York:20230711T200000
LOCATION:7 Keefer Court\, Hamilton\, ON\, Canada
END:VEVENT
END:VCALENDAR