BEGIN:VCALENDAR
VERSION:2.0
PRODID:Spatie calendar-links
BEGIN:VEVENT
UID:77bc02e819583686bbbc4ecdde76f4e8
SUMMARY:Fundraiser - Canadian Frontline Nurses
DTSTAMP;TZID=America/New_York:20230722T120000
DTSTART;TZID=America/New_York:20230722T120000
DTEND;TZID=America/New_York:20230722T200000
LOCATION:2685  Shirley Rd\, Blackstock\, Ontario\, Canada
END:VEVENT
END:VCALENDAR