BEGIN:VCALENDAR
VERSION:2.0
PRODID:Spatie calendar-links
BEGIN:VEVENT
UID:883c4e163a7a4ea1fe6cf7e027ef7997
SUMMARY:Sarnia - - WORLDWIDE RALLY MARCH 20TH\, 2021
DTSTAMP;TZID=America/Toronto:20210320T120000
DTSTART;TZID=America/Toronto:20210320T120000
DTEND;TZID=America/Toronto:20210320T150000
LOCATION:255 Christina Street North\, Sarnia\, ON\, Canada
END:VEVENT
END:VCALENDAR