BEGIN:VCALENDAR
VERSION:2.0
PRODID:Spatie calendar-links
BEGIN:VEVENT
UID:494c5365b572dd31b4f01c122ee1f758
SUMMARY:Restoring Ethics in Public Health & The War on Natural Healthcare
DTSTAMP;TZID=America/Vancouver:20230726T190000
DTSTART;TZID=America/Vancouver:20230726T190000
DTEND;TZID=America/Vancouver:20230726T230000
END:VEVENT
END:VCALENDAR