BEGIN:VCALENDAR
VERSION:2.0
PRODID:Spatie calendar-links
BEGIN:VEVENT
UID:a8af996dbdcc93d5f6eeb34e96bfd968
SUMMARY:7th Annual Walk for Jesus Edmonton 
DTSTAMP;TZID=America/Edmonton:20230812T120000
DTSTART;TZID=America/Edmonton:20230812T120000
DTEND;TZID=America/Edmonton:20230812T160000
LOCATION:46-98  Tommy Banks Way Northwest\, Edmonton\, AB\, Edmonton\, AB\, Canada
END:VEVENT
END:VCALENDAR