BEGIN:VCALENDAR
VERSION:2.0
PRODID:Spatie calendar-links
BEGIN:VEVENT
UID:feefa09f927d1627f7490b8f0c6d420a
SUMMARY:Alternative Relationship online group sessions
DTSTAMP;TZID=America/Vancouver:20230731T190000
DTSTART;TZID=America/Vancouver:20230731T190000
DTEND;TZID=America/Vancouver:20230731T210000
LOCATION:3650 Douglas rd.\, Burnaby\, BC\, Canada
END:VEVENT
END:VCALENDAR