BEGIN:VCALENDAR
VERSION:2.0
PRODID:Spatie calendar-links
BEGIN:VEVENT
UID:98c919708cc26875de374096b8403a8d
SUMMARY:Conservative Party of BC - Langley Riding Associations - Family and Friends BBQ
DTSTAMP;TZID=America/Los_Angeles:20230819T130000
DTSTART;TZID=America/Los_Angeles:20230819T130000
DTEND;TZID=America/Los_Angeles:20230819T160000
LOCATION:27240 8 Ave\, Aldergrove\, BC\, Canada
END:VEVENT
END:VCALENDAR