BEGIN:VCALENDAR
VERSION:2.0
PRODID:Spatie calendar-links
BEGIN:VEVENT
UID:bf9bd9f06e71cf33c9c1d989c64ac0d2
SUMMARY:Identity Quest Kick Off - ROUNDroom Retreat With Eats & Pilgrimage
DTSTAMP;TZID=America/Toronto:20231110T170000
DTSTART;TZID=America/Toronto:20231110T170000
DTEND;TZID=America/Toronto:20231111T180000
END:VEVENT
END:VCALENDAR