BEGIN:VCALENDAR
VERSION:2.0
PRODID:Spatie calendar-links
BEGIN:VEVENT
UID:00512be7f0e0ac1f557ec9ce818d6f24
SUMMARY:HPR Fall Craft Fair
DTSTAMP;TZID=America/Vancouver:20231112T080000
DTSTART;TZID=America/Vancouver:20231112T080000
DTEND;TZID=America/Vancouver:20231112T130000
END:VEVENT
END:VCALENDAR