BEGIN:VCALENDAR
VERSION:2.0
PRODID:Spatie calendar-links
BEGIN:VEVENT
UID:5f96b3159fd41b98d463cf75bc4a28d6
SUMMARY:Touch of Christmas Craft Fair
DTSTAMP;TZID=America/Vancouver:20231125T083000
DTSTART;TZID=America/Vancouver:20231125T083000
DTEND;TZID=America/Vancouver:20231125T143000
END:VEVENT
END:VCALENDAR